BEGIN:VCALENDAR
VERSION:2.0
PRODID:-//Otros Ojos - ECPv6.14.2//NONSGML v1.0//EN
CALSCALE:GREGORIAN
METHOD:PUBLISH
X-ORIGINAL-URL:https://otrosojoscine.com
X-WR-CALDESC:Eventos para Otros Ojos
REFRESH-INTERVAL;VALUE=DURATION:PT1H
X-Robots-Tag:noindex
X-PUBLISHED-TTL:PT1H
BEGIN:VTIMEZONE
TZID:UTC
BEGIN:STANDARD
TZOFFSETFROM:+0000
TZOFFSETTO:+0000
TZNAME:UTC
DTSTART:20250101T000000
END:STANDARD
END:VTIMEZONE
BEGIN:VEVENT
DTSTART;VALUE=DATE:20250318
DTEND;VALUE=DATE:20250319
DTSTAMP:20260420T104339
CREATED:20250508T232059Z
LAST-MODIFIED:20250715T131320Z
UID:960-1742256000-1742342399@otrosojoscine.com
SUMMARY:La piel dura / François Truffaut
DESCRIPTION:Proyección de la película en el Programa de Educación en Cine – OTROS OJOS. Quito – Ecuador
URL:https://otrosojoscine.com/evento/la-piel-dura-francois-truffaut-5/
END:VEVENT
BEGIN:VEVENT
DTSTART;VALUE=DATE:20250311
DTEND;VALUE=DATE:20250312
DTSTAMP:20260420T104339
CREATED:20250508T232059Z
LAST-MODIFIED:20250715T131327Z
UID:959-1741651200-1741737599@otrosojoscine.com
SUMMARY:La piel dura / François Truffaut
DESCRIPTION:Proyección de la película en el Programa de Educación en Cine – OTROS OJOS. Quito – Ecuador
URL:https://otrosojoscine.com/evento/la-piel-dura-francois-truffaut-4/
END:VEVENT
BEGIN:VEVENT
DTSTART;VALUE=DATE:20250228
DTEND;VALUE=DATE:20250301
DTSTAMP:20260420T104339
CREATED:20250508T232058Z
LAST-MODIFIED:20250715T131334Z
UID:958-1740700800-1740787199@otrosojoscine.com
SUMMARY:La piel dura / François Truffaut
DESCRIPTION:Proyección de la película en el Programa de Educación en Cine – OTROS OJOS. Quito – Ecuador
URL:https://otrosojoscine.com/evento/la-piel-dura-francois-truffaut-3/
END:VEVENT
BEGIN:VEVENT
DTSTART;VALUE=DATE:20250227
DTEND;VALUE=DATE:20250228
DTSTAMP:20260420T104339
CREATED:20250508T232058Z
LAST-MODIFIED:20250715T131339Z
UID:957-1740614400-1740700799@otrosojoscine.com
SUMMARY:No se admiten perros ni italianos / Alain Ughetto
DESCRIPTION:Proyección de la película en el Programa de Educación en Cine – OTROS OJOS. Quito – Ecuador
URL:https://otrosojoscine.com/evento/no-se-admiten-perros-ni-italianos-alain-ughetto-5/
END:VEVENT
BEGIN:VEVENT
DTSTART;VALUE=DATE:20250226
DTEND;VALUE=DATE:20250227
DTSTAMP:20260420T104339
CREATED:20250508T232058Z
LAST-MODIFIED:20250715T131350Z
UID:956-1740528000-1740614399@otrosojoscine.com
SUMMARY:No se admiten perros ni italianos / Alain Ughetto
DESCRIPTION:Proyección de la película en el Programa de Educación en Cine – OTROS OJOS. Quito – Ecuador
URL:https://otrosojoscine.com/evento/no-se-admiten-perros-ni-italianos-alain-ughetto-4/
END:VEVENT
BEGIN:VEVENT
DTSTART;VALUE=DATE:20250225
DTEND;VALUE=DATE:20250226
DTSTAMP:20260420T104339
CREATED:20250508T232056Z
LAST-MODIFIED:20250715T131357Z
UID:955-1740441600-1740527999@otrosojoscine.com
SUMMARY:La piel dura / François Truffaut
DESCRIPTION:Proyección de la película en el Programa de Educación en Cine – OTROS OJOS. Quito – Ecuador
URL:https://otrosojoscine.com/evento/la-piel-dura-francois-truffaut-2/
END:VEVENT
BEGIN:VEVENT
DTSTART;VALUE=DATE:20250224
DTEND;VALUE=DATE:20250225
DTSTAMP:20260420T104339
CREATED:20250508T232055Z
LAST-MODIFIED:20250715T131404Z
UID:954-1740355200-1740441599@otrosojoscine.com
SUMMARY:No se admiten perros ni italianos / Alain Ughetto
DESCRIPTION:Proyección de la película en el Programa de Educación en Cine – OTROS OJOS. Quito – Ecuador
URL:https://otrosojoscine.com/evento/no-se-admiten-perros-ni-italianos-alain-ughetto-3/
END:VEVENT
BEGIN:VEVENT
DTSTART;VALUE=DATE:20250221
DTEND;VALUE=DATE:20250222
DTSTAMP:20260420T104339
CREATED:20250508T232055Z
LAST-MODIFIED:20250715T131410Z
UID:953-1740096000-1740182399@otrosojoscine.com
SUMMARY:No se admiten perros ni italianos / Alain Ughetto
DESCRIPTION:Proyección de la película en el Programa de Educación en Cine – OTROS OJOS. Quito – Ecuador
URL:https://otrosojoscine.com/evento/no-se-admiten-perros-ni-italianos-alain-ughetto-2/
END:VEVENT
BEGIN:VEVENT
DTSTART;VALUE=DATE:20250220
DTEND;VALUE=DATE:20250221
DTSTAMP:20260420T104339
CREATED:20250508T232055Z
LAST-MODIFIED:20250715T131415Z
UID:952-1740009600-1740095999@otrosojoscine.com
SUMMARY:No se admiten perros ni italianos / Alain Ughetto
DESCRIPTION:Proyección de la película en el Programa de Educación en Cine – OTROS OJOS. Quito – Ecuador
URL:https://otrosojoscine.com/evento/no-se-admiten-perros-ni-italianos-alain-ughetto/
END:VEVENT
BEGIN:VEVENT
DTSTART;VALUE=DATE:20250218
DTEND;VALUE=DATE:20250219
DTSTAMP:20260420T104339
CREATED:20250508T232055Z
LAST-MODIFIED:20250715T131420Z
UID:951-1739836800-1739923199@otrosojoscine.com
SUMMARY:La piel dura / François Truffaut
DESCRIPTION:Proyección de la película en el Programa de Educación en Cine – OTROS OJOS. Quito – Ecuador
URL:https://otrosojoscine.com/evento/la-piel-dura-francois-truffaut/
END:VEVENT
END:VCALENDAR